BEGIN:VCALENDAR
VERSION:2.0
PRODID:-//ChamberMaster//Event Calendar 2.0//EN
METHOD:PUBLISH
X-PUBLISHED-TTL:P3D
REFRESH-INTERVAL:P3D
CALSCALE:GREGORIAN
BEGIN:VEVENT
DTSTART:20250426T230000Z
DTEND:20250427T040000Z
X-MICROSOFT-CDO-ALLDAYEVENT:FALSE
SUMMARY:Zoobilation Gala
DESCRIPTION:Enjoy a red carpet experience\, up-close animal encounters\, savory bites\, and indulgent cocktails with a live program that culminates in a fundraising raffle to support the Zoo's future expansion.
X-ALT-DESC;FMTTYPE=text/html:Enjoy a red carpet experience\, up-close animal encounters\, savory bites\, and indulgent cocktails with a live program that culminates in a fundraising raffle to support the Zoo&#39\;s future expansion.
LOCATION:Abilene Zoo 2070 Zoo Lane Abilene\, TX 79602
UID:e.3433.5322
SEQUENCE:3
DTSTAMP:20260421T200522Z
URL:https://business.abileneworks.com/events/details/zoobilation-gala-04-26-2025-5322
END:VEVENT

END:VCALENDAR
