BEGIN:VCALENDAR
VERSION:2.0
PRODID:-//ChamberMaster//Event Calendar 2.0//EN
METHOD:PUBLISH
X-PUBLISHED-TTL:P3D
REFRESH-INTERVAL:P3D
CALSCALE:GREGORIAN
BEGIN:VEVENT
DTSTART:20250621T130000Z
DTEND:20250621T210000Z
X-MICROSOFT-CDO-ALLDAYEVENT:FALSE
SUMMARY:World Giraffe Day Festival
DESCRIPTION:Celebrate the world's tallest animal on the longest day of the year! Get your tickets for yoga on Twiga Terrace\, a behind-the-scenes look during a giraffe barn tour\, or painting a canvas with a giraffe\, plus learn about giraffe's current conservation status and celebrate Congo's 10th birthday! Visit the pavilion for a special giraffe keeper chat at 11:00 am\, learn giraffe-tastic facts and the impact of conservation with giraffes in the wild.
X-ALT-DESC;FMTTYPE=text/html:Celebrate the world&rsquo\;s tallest animal on the longest day of the year! Get your tickets for yoga on Twiga Terrace\, a behind-the-scenes look during a giraffe barn tour\, or painting a canvas with a giraffe\, plus learn about giraffe&rsquo\;s current conservation status and celebrate Congo&rsquo\;s 10th birthday! Visit the pavilion for a special giraffe keeper chat at 11:00 am\, learn giraffe-tastic facts and the impact of conservation with giraffes in the wild.
LOCATION:Abilene Zoo 2070 Zoo Lane
UID:e.3433.5645
SEQUENCE:3
DTSTAMP:20260421T145655Z
URL:https://business.abileneworks.com/events/details/world-giraffe-day-festival-06-21-2025-5645
END:VEVENT

END:VCALENDAR
