BEGIN:VCALENDAR
VERSION:2.0
PRODID:-//ChamberMaster//Event Calendar 2.0//EN
METHOD:PUBLISH
X-PUBLISHED-TTL:P3D
REFRESH-INTERVAL:P3D
CALSCALE:GREGORIAN
BEGIN:VEVENT
DTSTART:20250930T223000Z
DTEND:20250930T233000Z
X-MICROSOFT-CDO-ALLDAYEVENT:FALSE
SUMMARY:The Psychology of Pricing: Why Your Customers Say “Yes” or “No"
DESCRIPTION:Discover the decision science behind why customers accept or reject prices. This workshop explores the psychology of value perception and how strategic pricing influences buying behavior. Learn to apply behavioral insights to set prices that resonate with your audience and drive sales.
X-ALT-DESC;FMTTYPE=text/html:Discover the decision science behind why customers accept or reject prices. This workshop explores the psychology of value perception and how strategic pricing influences buying behavior. Learn to apply behavioral insights to set prices that resonate with your audience and drive sales.
LOCATION:749 Gateway St.\, Ste. 301\, Abilene TX 79602-0002
UID:e.3433.5686
SEQUENCE:3
DTSTAMP:20260421T115331Z
URL:https://business.abileneworks.com/events/details/the-psychology-of-pricing-why-your-customers-say-yes-or-no-5686
END:VEVENT

END:VCALENDAR
