BEGIN:VCALENDAR
VERSION:2.0
PRODID:-//ChamberMaster//Event Calendar 2.0//EN
METHOD:PUBLISH
X-PUBLISHED-TTL:P3D
REFRESH-INTERVAL:P3D
CALSCALE:GREGORIAN
BEGIN:VEVENT
DTSTART:20250309T010000Z
DTEND:20250309T030000Z
X-MICROSOFT-CDO-ALLDAYEVENT:FALSE
SUMMARY:The Gatlin Brothers: 70th Anniversary Concert
DESCRIPTION:70 years after winning their first talent contest in Abilene\, Texas\, the Gatlin Brothers are returning to the stage! Larry\, Steve\, & Rudy will sing all their hit songs with that signature sound the trio is known for. Don't miss this very special event!
X-ALT-DESC;FMTTYPE=text/html:70 years after winning their first talent contest in Abilene\, Texas\, the Gatlin Brothers are returning to the stage! Larry\, Steve\, &amp\; Rudy will sing all their hit songs with that signature sound the trio is known for. Don&rsquo\;t miss this very special event!
LOCATION:Abilene Convention Center
UID:e.3433.5489
SEQUENCE:3
DTSTAMP:20260421T214357Z
URL:https://business.abileneworks.com/events/details/the-gatlin-brothers-70th-anniversary-concert-5489
END:VEVENT

END:VCALENDAR
