BEGIN:VCALENDAR
VERSION:2.0
PRODID:-//ChamberMaster//Event Calendar 2.0//EN
METHOD:PUBLISH
X-PUBLISHED-TTL:P3D
REFRESH-INTERVAL:P3D
CALSCALE:GREGORIAN
BEGIN:VEVENT
DTSTART:20261015T230000Z
DTEND:20261016T010000Z
X-MICROSOFT-CDO-ALLDAYEVENT:FALSE
SUMMARY:The Big Cheese
DESCRIPTION:Get ready for the cheesiest and most delicious night of the year at The Big Cheese\, a crowd-favorite event supporting Big Brothers Big Sisters of Abilene! The Big Cheese brings together local chefs and culinary enthusiasts for a mouthwatering celebration of mac and cheese. Experience a wide variety of mac and cheese creations from classic comfort food to innovative new twists crafted by Abilene's best chefs. Each dish is sure to satisfy your taste buds and leave you craving more. As part of the fun\, attendees will have the chance to vote for their favorites in three categories: People's Choice\, Kid's Choice\, and Judges' Choice. The evening culminates in the crowning of the overall winner as "The Big Cheese." In addition to delicious eats\, guests can participate in the "Never Cook Again" raffle for a chance to win gift cards from participating vendors. Every dollar raised helps fund Big Brothers Big Sisters' mission of creating life-changing mentorships for local youth. Your support ensures that more children in Abilene have the opportunity to build lasting relationships with caring adult mentors.
X-ALT-DESC;FMTTYPE=text/html:Get ready for the cheesiest and most delicious night of the year at The Big Cheese\, a crowd-favorite event supporting Big Brothers Big Sisters of Abilene! The Big Cheese brings together local chefs and culinary enthusiasts for a mouthwatering celebration of mac and cheese. Experience a wide variety of mac and cheese creations&mdash\;from classic comfort food to innovative new twists&mdash\;crafted by Abilene&#39\;s best chefs. Each dish is sure to satisfy your taste buds and leave you craving more. As part of the fun\, attendees will have the chance to vote for their favorites in three categories: People&#39\;s Choice\, Kid&#39\;s Choice\, and Judges&#39\; Choice. The evening culminates in the crowning of the overall winner as &quot\;The Big Cheese.&quot\; In addition to delicious eats\, guests can participate in the &quot\;Never Cook Again&quot\; raffle for a chance to win gift cards from participating vendors. Every dollar raised helps fund Big Brothers Big Sisters&#39\; mission of creating life-changing mentorships for local youth. Your support ensures that more children in Abilene have the opportunity to build lasting relationships with caring adult mentors.
LOCATION:Abilene Convention Center\, Abilene\, TX
UID:e.3433.6008
SEQUENCE:3
DTSTAMP:20260421T084106Z
URL:https://business.abileneworks.com/events/details/the-big-cheese-10-15-2026-6008
END:VEVENT

END:VCALENDAR
