BEGIN:VCALENDAR
VERSION:2.0
PRODID:-//ChamberMaster//Event Calendar 2.0//EN
METHOD:PUBLISH
X-PUBLISHED-TTL:P3D
REFRESH-INTERVAL:P3D
CALSCALE:GREGORIAN
BEGIN:VEVENT
DTSTART:20250923T223000Z
DTEND:20250923T233000Z
X-MICROSOFT-CDO-ALLDAYEVENT:FALSE
SUMMARY:The Big Beautiful Bill: What Small Businesses Need to Know
DESCRIPTION:Have you heard about The Big Beautiful Bill? This new legislation could bring big changes and big opportunities for small businesses like yours. Join us for an informative session where we'll break down what the bill means\, how it may affect your operations\, and what steps you can take to stay compliant and benefit from its provisions. Topics include: Key features of the bill Impacts on small business operations\, taxes\, or compliance Action steps to prepare your business Whether you're just getting started or looking to grow\, this workshop will help you navigate what's next with confidence.
X-ALT-DESC;FMTTYPE=text/html:Have you heard about The Big Beautiful Bill? This new legislation could bring big changes&mdash\;and big opportunities&mdash\;for small businesses like yours. Join us for an informative session where we&#39\;ll break down what the bill means\, how it may affect your operations\, and what steps you can take to stay compliant and benefit from its provisions. Topics include: Key features of the bill Impacts on small business operations\, taxes\, or compliance Action steps to prepare your business Whether you&rsquo\;re just getting started or looking to grow\, this workshop will help you navigate what&rsquo\;s next with confidence.
LOCATION:749 Gateway St.\, Ste. 301\, Abilene TX 79602-0002
UID:e.3433.5684
SEQUENCE:3
DTSTAMP:20260421T102912Z
URL:https://business.abileneworks.com/events/details/the-big-beautiful-bill-what-small-businesses-need-to-know-5684
END:VEVENT

END:VCALENDAR
