BEGIN:VCALENDAR
VERSION:2.0
PRODID:-//ChamberMaster//Event Calendar 2.0//EN
METHOD:PUBLISH
X-PUBLISHED-TTL:P3D
REFRESH-INTERVAL:P3D
CALSCALE:GREGORIAN
BEGIN:VEVENT
DTSTART:20250624T223000Z
DTEND:20250624T233000Z
X-MICROSOFT-CDO-ALLDAYEVENT:FALSE
SUMMARY:Social Media Marketing and How to's on Budgeting and Creating a Marketing Plan
DESCRIPTION:Overview of various types of marketing and also how-to's on budgeting and creating a marketing plan for your small business.
X-ALT-DESC;FMTTYPE=text/html:Overview of various types of marketing and also how-to&rsquo\;s on budgeting and creating a marketing plan for your small business.
LOCATION:Abilene SBDC 749 Gateway St.\, Ste. 301 79602
UID:e.3433.5641
SEQUENCE:3
DTSTAMP:20260421T163413Z
URL:https://business.abileneworks.com/events/details/social-media-marketing-and-how-to-s-on-budgeting-and-creating-a-marketing-plan-5641
END:VEVENT

END:VCALENDAR
