BEGIN:VCALENDAR
VERSION:2.0
PRODID:-//ChamberMaster//Event Calendar 2.0//EN
METHOD:PUBLISH
X-PUBLISHED-TTL:P3D
REFRESH-INTERVAL:P3D
CALSCALE:GREGORIAN
BEGIN:VEVENT
DTSTART:20250520T163000Z
DTEND:20250520T180000Z
X-MICROSOFT-CDO-ALLDAYEVENT:FALSE
SUMMARY:Snyder Lunch & Learn: Social Media Marketing and How to's on Budgeting and Creating a Marketing Plan
DESCRIPTION:SBDC Business Counselor\, Kenny Heaton will provide an overview of various types of marketing and also how-to's on budgeting and creating a marketing plan for your small business.
X-ALT-DESC;FMTTYPE=text/html:SBDC Business Counselor\, Kenny Heaton will provide an overview of various types of marketing and also how-to&rsquo\;s on budgeting and creating a marketing plan for your small business.
LOCATION:2302 Ave. R\, Snyder\, TX 79549
UID:e.3433.5602
SEQUENCE:3
DTSTAMP:20260421T163439Z
URL:https://business.abileneworks.com/events/details/snyder-lunch-learn-social-media-marketing-and-how-to-s-on-budgeting-and-creating-a-marketing-plan-05-20-2025-5602
END:VEVENT

END:VCALENDAR
