BEGIN:VCALENDAR
VERSION:2.0
PRODID:-//ChamberMaster//Event Calendar 2.0//EN
METHOD:PUBLISH
X-PUBLISHED-TTL:P3D
REFRESH-INTERVAL:P3D
CALSCALE:GREGORIAN
BEGIN:VEVENT
DTSTART:20250923T140000Z
DTEND:20250923T180000Z
X-MICROSOFT-CDO-ALLDAYEVENT:FALSE
SUMMARY:Senior Wellness Expo
DESCRIPTION:Join us for the 2025 Annual Senior Wellness Expo Carnival Extravaganza Brought to you by the City of Abilene Parks and Recreation Senior Services Division The City of Abilene Parks and Recreation Senior Services Division is hosting our 2025 Annual Senior Wellness Expo. This event provides an opportunity for regional organizations to get in front of hundreds of senior citizens in their community to provide valuable information regarding the services that they provide. Decorate your booth & include your favorite carnival game or activity. Vendor space is now available. Spaces are limited & will sell out! Vendors must complete a Vendor Commitment Form & submit in person at our office.\n\n\n\nPayment is due at time of registration. Space will not be saved until payment.\n\n\n\nClassroom & dining room booths will be distributed on a first come basis. Vendor Commitment Forms are available at the Rose Park Senior Center Office.\n\n\n\nDon't wait\, sign up now get valuable information to hundreds of senior citizens regarding your services! Get creative and decorate your booth. The best decorated booth in keeping with our theme will win Best Decorated Booth! This year's theme is "Carnival Extravaganza!" Details   Day: Tuesday   Date: September 23\, 2025   Time: 9:00 AM - 1:00 PM   Doors Open: 9:00 AM   Location: Rose Park Senior Center   Address: 2625 S 7th St   Phone: (325) 734-5300   Cost: FREE for Attendees Vendor Booths   Vendor space is now available   Please complete the registration form on the back of this page & submit in person at our office   Spaces are limited & will sell out   Payment is due at time of registration   Space will not be saved until payment   Classroom & dining room booths will be distributed on a first come basis   Include a carnival game or activity Location and Setup Options:   $100: Foyer\, 8' Table\, 2 Chairs   $50: Dining Room\, 3' x 6' Space\, 2 Card Tables\, 2 Chairs   $50: Classroom\, 3' x 6' Space\, 2 Card Tables\, 2 Chairs Vendor Bingo   Start Time: 12:00 PM (Vendors may begin taking down their booths at this time)   $15 Gift: Vendors must provide a non-promotional bingo gift valued at $15 (bring to booth setup on September 22\, 2025)   Promotion: Vendors are welcome to attach a business card & pamphlet   How to Play: Upon arrival\, seniors will be given a card that must be signed by all vendors in order for them to participate in Vendor Bingo Booth Setup   Day: Monday   Date: September 22\, 2025   Time: 2:00 PM - 5:00 PM   Booth Decoration   Get creative & decorate your booth   This year's theme is "Carnival Extravaganza"   Win "Best Decorated Booth!"   Include a carnival game or activity How to Register Your Vendor Booth   Pick up your form at the Rose Park Senior Center   Complete the back of the Vendor Commitment Form   Submit your form in person at our office: Rose Park Senior Center 2625 S 7th St For questions\, or to learn more\, call (325) 734-5300 or email parksandrec@abilenetx.gov
X-ALT-DESC;FMTTYPE=text/html:Join us for the 2025 Annual Senior Wellness Expo Carnival Extravaganza Brought to you by the City of Abilene Parks and Recreation Senior Services Division The City of Abilene Parks and Recreation Senior Services Division is hosting our 2025 Annual Senior Wellness Expo. This event provides an opportunity for regional organizations to get in front of hundreds of senior citizens in their community to provide valuable information regarding the services that they provide. Decorate your booth &amp\; include your favorite carnival game or activity. Vendor space is now available. Spaces are limited &amp\; will sell out! Vendors must complete a Vendor Commitment Form &amp\; submit in person at our office.<br />\n<br />\nPayment is due at time of registration. Space will not be saved until payment.<br />\n<br />\nClassroom &amp\; dining room booths will be distributed on a first come basis. Vendor Commitment Forms are available at the Rose Park Senior Center Office.<br />\n<br />\nDon&#39\;t wait\, sign up now get valuable information to hundreds of senior citizens regarding your services! Get creative and decorate your booth. The best decorated booth in keeping with our theme will win Best Decorated Booth! This year&#39\;s theme is &quot\;Carnival Extravaganza!&quot\; Details &bull\; Day: Tuesday &bull\; Date: September 23\, 2025 &bull\; Time: 9:00 AM - 1:00 PM &bull\; Doors Open: 9:00 AM &bull\; Location: Rose Park Senior Center &bull\; Address: 2625 S 7th St &bull\; Phone: (325) 734-5300 &bull\; Cost: FREE for Attendees Vendor Booths &bull\; Vendor space is now available &bull\; Please complete the registration form on the back of this page &amp\; submit in person at our office &bull\; Spaces are limited &amp\; will sell out &bull\; Payment is due at time of registration &bull\; Space will not be saved until payment &bull\; Classroom &amp\; dining room booths will be distributed on a first come basis &bull\; Include a carnival game or activity Location and Setup Options: &bull\; $100: Foyer\, 8&#39\; Table\, 2 Chairs &bull\; $50: Dining Room\, 3&#39\; x 6&#39\; Space\, 2 Card Tables\, 2 Chairs &bull\; $50: Classroom\, 3&#39\; x 6&#39\; Space\, 2 Card Tables\, 2 Chairs Vendor Bingo &bull\; Start Time: 12:00 PM (Vendors may begin taking down their booths at this time) &bull\; $15 Gift: Vendors must provide a non-promotional bingo gift valued at $15 (bring to booth setup on September 22\, 2025) &bull\; Promotion: Vendors are welcome to attach a business card &amp\; pamphlet &bull\; How to Play: Upon arrival\, seniors will be given a card that must be signed by all vendors in order for them to participate in Vendor Bingo Booth Setup &bull\; Day: Monday &bull\; Date: September 22\, 2025 &bull\; Time: 2:00 PM - 5:00 PM &bull\; Booth Decoration &bull\; Get creative &amp\; decorate your booth &bull\; This year&#39\;s theme is &quot\;Carnival Extravaganza&quot\; &bull\; Win &quot\;Best Decorated Booth!&quot\; &bull\; Include a carnival game or activity How to Register Your Vendor Booth &bull\; Pick up your form at the Rose Park Senior Center &bull\; Complete the back of the Vendor Commitment Form &bull\; Submit your form in person at our office: Rose Park Senior Center 2625 S 7th St For questions\, or to learn more\, call (325) 734-5300 or email parksandrec@abilenetx.gov
LOCATION:Rose Park Senior Center 2625 S 7th St
UID:e.3433.5672
SEQUENCE:3
DTSTAMP:20260421T102428Z
URL:https://business.abileneworks.com/events/details/senior-wellness-expo-5672
END:VEVENT

END:VCALENDAR
