BEGIN:VCALENDAR
VERSION:2.0
PRODID:-//ChamberMaster//Event Calendar 2.0//EN
METHOD:PUBLISH
X-PUBLISHED-TTL:P3D
REFRESH-INTERVAL:P3D
CALSCALE:GREGORIAN
BEGIN:VEVENT
DTSTART:20250503T160000Z
DTEND:20250503T190000Z
X-MICROSOFT-CDO-ALLDAYEVENT:FALSE
SUMMARY:Restore Wellness Centre - Open House
DESCRIPTION:Join Us for Restore Wellness Centre's Open House!\n\nDiscover a holistic approach to wellness at Restore Wellness Centre in Abilene\, TX! We combine traditional medicine with alternative therapies to optimize health\, combat aging\, and restore vitality.\n\n\n\nCome enjoy FREE B12 injections\, enter door prize raffles\, and take advantage of special offers like $9/unit Xeomin and Vampire Facial specials.
X-ALT-DESC;FMTTYPE=text/html:<p data-end="53" data-start="0"><strong data-end="53" data-start="0">Join Us for Restore Wellness Centre&rsquo\;s Open House!</strong></p>\n\n<p data-end="253" data-start="55">Discover a holistic approach to wellness at Restore Wellness Centre in Abilene\, TX! We combine traditional medicine with alternative therapies to optimize health\, combat aging\, and restore vitality.<br />\n<br />\nCome&nbsp\;enjoy FREE B12 injections\, enter door prize raffles\, and take advantage of special offers like $9/unit Xeomin and Vampire Facial specials.</p>\n\n<p data-end="527" data-start="399">&nbsp\;</p>\n
LOCATION:1702 S. Clack Street Ste.1 Abilene\, TX 79605
UID:e.3433.5611
SEQUENCE:3
DTSTAMP:20260421T175924Z
URL:https://business.abileneworks.com/events/details/restore-wellness-centre-open-house-5611
END:VEVENT

END:VCALENDAR
