BEGIN:VCALENDAR
VERSION:2.0
PRODID:-//ChamberMaster//Event Calendar 2.0//EN
METHOD:PUBLISH
X-PUBLISHED-TTL:P3D
REFRESH-INTERVAL:P3D
CALSCALE:GREGORIAN
BEGIN:VEVENT
DTSTART:20250813T160000Z
DTEND:20250813T170000Z
X-MICROSOFT-CDO-ALLDAYEVENT:FALSE
SUMMARY:Relocation Ribbon Cutting - Southern Delights By Michele
DESCRIPTION:Join us as we celebrate the new location of Southern Delights by Michele!
X-ALT-DESC;FMTTYPE=text/html:Join us as we celebrate the new location of Southern Delights by Michele!
LOCATION:4640 S 14th Street Abilene\, TX 79605
UID:e.3433.5693
SEQUENCE:3
DTSTAMP:20260421T132710Z
URL:https://business.abileneworks.com/events/details/relocation-ribbon-cutting-southern-delights-by-michele-5693
END:VEVENT

END:VCALENDAR
