BEGIN:VCALENDAR
VERSION:2.0
PRODID:-//ChamberMaster//Event Calendar 2.0//EN
METHOD:PUBLISH
X-PUBLISHED-TTL:P3D
REFRESH-INTERVAL:P3D
CALSCALE:GREGORIAN
BEGIN:VEVENT
DTSTART:20261028T163000Z
DTEND:20261028T180000Z
X-MICROSOFT-CDO-ALLDAYEVENT:FALSE
SUMMARY:Quarterly Ag Luncheon 10.28.26
DESCRIPTION:This networking luncheon is a great opportunity for you to connect with other business owners and community leaders while also learning more about the importance of agriculture in our region. Bring a friend or two and see what all the excitement is about with our ag lunches!
X-ALT-DESC;FMTTYPE=text/html:<div style="font-family: Tahoma\, sans-serif\;">\n<div style="padding-bottom: 4px\;"><span style="font-family:arial\;"><span style="font-size: 16px\;">This networking luncheon is a great opportunity for you to connect with other business owners and community leaders while also learning more about the importance of agriculture in our region. Bring a friend or two and see what all the excitement is about with our ag lunches!</span></span></div>\n</div>\n
LOCATION:Sharon's BBQ
UID:e.3433.5504
SEQUENCE:3
DTSTAMP:20260421T084247Z
URL:https://business.abileneworks.com/events/details/quarterly-ag-luncheon-10-28-26-5504
END:VEVENT

END:VCALENDAR
