BEGIN:VCALENDAR
VERSION:2.0
PRODID:-//ChamberMaster//Event Calendar 2.0//EN
METHOD:PUBLISH
X-PUBLISHED-TTL:P3D
REFRESH-INTERVAL:P3D
CALSCALE:GREGORIAN
BEGIN:VEVENT
DTSTART:20250808T000000Z
DTEND:20250808T010500Z
X-MICROSOFT-CDO-ALLDAYEVENT:FALSE
SUMMARY:Pub Talks - Brandon Young: The Most Beautiful House in the World
DESCRIPTION:Tickets are $15 and available here: https://www.graintheory.beer/store. TIMELINE: 6:00pm   Drinks\, food\, find a seat 7:00pm   Pub Talk begins 7:45pm   Open Q&A 8:00pm   Hang out\, grab another drink\, talk to the speaker 8:30pm   Until next time Pub Talks is our new summer speaker series\, hosted in collaboration with seven and one books. Each event invites a local expert to share meaningful ideas in a relaxed setting at Grain Theory followed by open Q&A\, good food\, and cold beer. Whether you're here to learn something new or just love a good conversation\, Pub Talks is for you. "The Most Beautiful House in the World" Architect Brandon Young invites us along on a personal journey: designing and building a house for his family right here in Abilene. Taking inspiration from Witold Rybczynski's book of the same name\, Brandon explores the emotional\, aesthetic\, and practical questions that arise when you ask\, "What is the most beautiful house?" Brandon Young\, AIA\, LEED AP\, is a Partner and Director of Design at Parkhill\, a regional architecture and engineering firm. His experience covers a broad range of project types\, including institutional\, commercial\, mixed-use\, and multi- and single-family residential. For 14 years\, he taught architecture and design at Abilene Christian University's Department of Art & Design earning tenure and promotion to Associate Professor. Brandon currently serves as a board member for the Abilene Cultural Affairs Council and a commissioner for Abilene's Landmarks Commission. Bonus for attendees: Our Pour-Your-Own Beer Wall\, located inside The Blakeley\, is 20% off during Pub Talks! If you're attending the event\, just grab a card from the bartender up front to activate the wall. Beer is charged by the ounce. ($30 refundable card deposit required) Come early for food and drinks\, stay late to keep the conversation going. See you at Pub Talks.
X-ALT-DESC;FMTTYPE=text/html:Tickets are $15 and available here: https://www.graintheory.beer/store. TIMELINE: 6:00pm &ndash\; Drinks\, food\, find a seat 7:00pm &ndash\; Pub Talk begins 7:45pm &ndash\; Open Q&amp\;A 8:00pm &ndash\; Hang out\, grab another drink\, talk to the speaker 8:30pm &ndash\; Until next time Pub Talks is our new summer speaker series\, hosted in collaboration with seven and one books. Each event invites a local expert to share meaningful ideas in a relaxed setting at Grain Theory&mdash\;followed by open Q&amp\;A\, good food\, and cold beer. Whether you&#39\;re here to learn something new or just love a good conversation\, Pub Talks is for you. &quot\;The Most Beautiful House in the World&quot\; Architect Brandon Young invites us along on a personal journey: designing and building a house for his family right here in Abilene. Taking inspiration from Witold Rybczynski&#39\;s book of the same name\, Brandon explores the emotional\, aesthetic\, and practical questions that arise when you ask\, &quot\;What is the most beautiful house?&quot\; Brandon Young\, AIA\, LEED AP\, is a Partner and Director of Design at Parkhill\, a regional architecture and engineering firm. His experience covers a broad range of project types\, including institutional\, commercial\, mixed-use\, and multi- and single-family residential. For 14 years\, he taught architecture and design at Abilene Christian University&#39\;s Department of Art &amp\; Design earning tenure and promotion to Associate Professor. Brandon currently serves as a board member for the Abilene Cultural Affairs Council and a commissioner for Abilene&#39\;s Landmarks Commission. Bonus for attendees: Our Pour-Your-Own Beer Wall\, located inside The Blakeley\, is 20% off during Pub Talks! If you&rsquo\;re attending the event\, just grab a card from the bartender up front to activate the wall. Beer is charged by the ounce. ($30 refundable card deposit required) Come early for food and drinks\, stay late to keep the conversation going. See you at Pub Talks.
LOCATION:Grain Theory
UID:e.3433.5691
SEQUENCE:3
DTSTAMP:20260421T132900Z
URL:https://business.abileneworks.com/events/details/pub-talks-brandon-young-the-most-beautiful-house-in-the-world-5691
END:VEVENT

END:VCALENDAR
