BEGIN:VCALENDAR
VERSION:2.0
PRODID:-//ChamberMaster//Event Calendar 2.0//EN
METHOD:PUBLISH
X-PUBLISHED-TTL:P3D
REFRESH-INTERVAL:P3D
CALSCALE:GREGORIAN
BEGIN:VEVENT
DTSTART:20250319T163000Z
DTEND:20250319T180000Z
X-MICROSOFT-CDO-ALLDAYEVENT:FALSE
SUMMARY:Prosperity Bank Lunch & Learn: Banking Services
DESCRIPTION:SBDC & Prosperity Bank Present: Banking Services for Small Businesses The Small Business Development Center (SBDC) and Prosperity Bank will discuss banking services designed for small businesses. This session will provide an overview of essential financial tools and resources to help business owners manage and grow their businesses effectively. Join us to gain valuable insights and learn how the right banking solutions can support your business success! Registration is required @ https://nwtsbdc.ecenterdirect.com/events/16830 Lunch provided - Maximum Attendees 14
X-ALT-DESC;FMTTYPE=text/html:SBDC &amp\; Prosperity Bank Present: Banking Services for Small Businesses The Small Business Development Center (SBDC) and Prosperity Bank will discuss banking services designed for small businesses. This session will provide an overview of essential financial tools and resources to help business owners manage and grow their businesses effectively. Join us to gain valuable insights and learn how the right banking solutions can support your business success! Registration is required @ https://nwtsbdc.ecenterdirect.com/events/16830 Lunch provided - Maximum Attendees 14
LOCATION:749 Gateway St.\, Ste. 301 79602
UID:e.3433.5567
SEQUENCE:3
DTSTAMP:20260421T213542Z
URL:https://business.abileneworks.com/events/details/prosperity-bank-lunch-learn-banking-services-5567
END:VEVENT

END:VCALENDAR
