BEGIN:VCALENDAR
VERSION:2.0
PRODID:-//ChamberMaster//Event Calendar 2.0//EN
METHOD:PUBLISH
X-PUBLISHED-TTL:P3D
REFRESH-INTERVAL:P3D
CALSCALE:GREGORIAN
BEGIN:VEVENT
DTSTART:20250822T220000Z
DTEND:20250823T000000Z
X-MICROSOFT-CDO-ALLDAYEVENT:FALSE
SUMMARY:Portraits of Hope: See the Heart\, Capture the Future
DESCRIPTION:You're Invited to view the Heart Gallery of Northwest Texas Portraits of Hope. This exhibit will highlight the youth featured in our local Heart Gallery\; the connection and celebration of the work being done in our communities to support foster youth in their adoption journey.
X-ALT-DESC;FMTTYPE=text/html:<span style="font-size:12px\;"><span style="font-family:arial\;"><span style="color:#242424\;">You&#39\;re Invited to view the Heart Gallery of Northwest Texas Portraits of Hope. </span><span style="color:#242424\;">This exhibit will highlight the youth featured in our local Heart Gallery\; the connection and celebration of the work being done in our communities&nbsp\;to&nbsp\;support foster youth in their adoption journey.</span></span></span>
LOCATION:Wright Photography Gallery The Center for Contemporary Arts 220 Cypress Street\, Abilene TX\, 79601
UID:e.3433.5698
SEQUENCE:3
DTSTAMP:20260421T133013Z
URL:https://business.abileneworks.com/events/details/portraits-of-hope-see-the-heart-capture-the-future-5698
END:VEVENT

END:VCALENDAR
