BEGIN:VCALENDAR
VERSION:2.0
PRODID:-//ChamberMaster//Event Calendar 2.0//EN
METHOD:PUBLISH
X-PUBLISHED-TTL:P3D
REFRESH-INTERVAL:P3D
CALSCALE:GREGORIAN
BEGIN:VEVENT
DTSTART:20250502T150000Z
DTEND:20250503T040000Z
X-MICROSOFT-CDO-ALLDAYEVENT:FALSE
SUMMARY:New Chamber Member HIS Paint
DESCRIPTION:Help us celebrate one of our newest members HIS Paint!
X-ALT-DESC;FMTTYPE=text/html:Help us celebrate one of our newest members HIS Paint!
LOCATION:3437 North 1st Abilene\, TX 79603
UID:e.3433.5594
SEQUENCE:3
DTSTAMP:20260421T181725Z
URL:https://business.abileneworks.com/events/details/new-chamber-member-his-paint-5594
END:VEVENT

END:VCALENDAR
