BEGIN:VCALENDAR
VERSION:2.0
PRODID:-//ChamberMaster//Event Calendar 2.0//EN
METHOD:PUBLISH
X-PUBLISHED-TTL:P3D
REFRESH-INTERVAL:P3D
CALSCALE:GREGORIAN
BEGIN:VEVENT
DTSTART:20250226T200000Z
DTEND:20250226T210000Z
X-MICROSOFT-CDO-ALLDAYEVENT:FALSE
SUMMARY:Microsoft Teams Collaboration Culture Online Training Webinar
DESCRIPTION:Join us for a training that will focus on implementing Teams as your business' standard of communication. We will also train on how to use CoPilot to optimize Microsoft Teams and how to utilize the mobile version as well.
X-ALT-DESC;FMTTYPE=text/html:Join us for a training that will focus on implementing Teams as your business&#39\; standard of communication. We will also train on how to use CoPilot to optimize Microsoft Teams and how to utilize the mobile version as well.
LOCATION:Online
UID:e.3433.5511
SEQUENCE:3
DTSTAMP:20260421T230858Z
URL:https://business.abileneworks.com/events/details/microsoft-teams-collaboration-culture-online-training-webinar-5511
END:VEVENT

END:VCALENDAR
