BEGIN:VCALENDAR
VERSION:2.0
PRODID:-//ChamberMaster//Event Calendar 2.0//EN
METHOD:PUBLISH
X-PUBLISHED-TTL:P3D
REFRESH-INTERVAL:P3D
CALSCALE:GREGORIAN
BEGIN:VEVENT
DTSTART:20250828T220000Z
DTEND:20250829T010000Z
X-MICROSOFT-CDO-ALLDAYEVENT:FALSE
SUMMARY:Leadership Abilene Alumni Class Reunion Sponsored by United Supermarkets
DESCRIPTION:Come join us as we reconnect with old and new classmates from Leadership Abilene in this annual all-classes reunion.\n\n\n\nPlease bring school supplies to give-back to local schools in our area.\n\n\n\nThe list of school supplies needed can be found here:\n\n\n\nAbilene ISD\n\n\n\nClyde CISD\n\n\n\nJim Ned CISD\n\n	Lawn Elementary\n	Buffalo Gap Elementary\n	Jim Ned Intermediate\n	Jim Ned Middle\n\n Merkel ISD\n\n\n	Elementary\n	Middle\n\nTexas Leadership of Abilene\n\n\n\nTrent Elementary School\n\n\n\nWylie ISD
X-ALT-DESC;FMTTYPE=text/html:<span style="font-family: Inter\, Helvetica\, Arial\, sans-serif\;">Come join us as we reconnect with old and new classmates from Leadership Abilene in this annual all-classes reunion.<br />\n<br />\n<span style="color:#FF0000\;">Please bring school supplies to give-back to local schools in our area.</span><br />\n<br />\nThe list of school supplies needed can be found here:<br />\n<br />\n<span style="font-size:14px\;"><strong><a href="http://www.abileneisd.org/documents/families-and-students/school-supply-lists/574754"><span style="color:#0000FF\;">Abilene ISD</span></a></strong></span><br />\n<br />\n<span style="font-size:14px\;"><strong><a href="http://www.clydeisd.org/page/schoolsupplies"><span style="color:#0000FF\;">Clyde CISD</span></a></strong></span><br />\n<br />\n<span style="font-size:14px\;">Jim Ned CISD</span></span>\n<ul>\n	<li><span style="font-size:14px\;"><strong><a href="http://schools.jimned.esc14.net/upload/common/2024-2025/Lawn%20School%20Supply%20List%202024-2025.pdf"><span style="color:#0000FF\;"><span style="font-family: Inter\, Helvetica\, Arial\, sans-serif\;">Lawn Elementary</span></span></a></strong></span></li>\n	<li><span style="font-size:14px\;"><strong><a href="http://schools.jimned.esc14.net/page/jnebg.schoolsupplies"><span style="color:#0000FF\;"><span style="font-family: Inter\, Helvetica\, Arial\, sans-serif\;">Buffalo Gap Elementary</span></span></a></strong></span></li>\n	<li><span style="font-size:14px\;"><strong><a href="http://schools.jimned.esc14.net/upload/page/1681/widgets/image/24-25%20Intermediate%20School%20supplies%20-%20Google%20Docs.pdf"><span style="color:#0000FF\;"><span style="font-family: Inter\, Helvetica\, Arial\, sans-serif\;">Jim Ned Intermediate</span></span></a></strong></span></li>\n	<li><span style="font-size:14px\;"><strong><a href="http://schools.jimned.esc14.net/page/JNMS.schoolsupplies"><span style="color:#0000FF\;"><span style="font-family: Inter\, Helvetica\, Arial\, sans-serif\;">Jim Ned Middle</span></span></a></strong></span></li>\n</ul>\n<span style="font-size:14px\;"><span style="font-family: Inter\, Helvetica\, Arial\, sans-serif\;">&#8203\;Merkel ISD</span></span>\n\n<ul>\n	<li><span style="font-size:14px\;"><strong><span style="font-family: Inter\, Helvetica\, Arial\, sans-serif\;"><a href="http://www.merkelisd.net/upload/template/0017/_2024-2025%20school%20supply%20list%20-%20All%20Grades.pdf"><span style="color:#0000FF\;">Elementary</span></a></span></strong></span></li>\n	<li><span style="font-size:14px\;"><strong><span style="font-family: Inter\, Helvetica\, Arial\, sans-serif\;"><a href="https://docs.google.com/document/d/1srGiMDftYqHIbu0Tu3DgBFNd7G0vzQzxjXeb9TkPx5w/edit"><span style="color:#0000FF\;">Middle</span></a></span></strong></span></li>\n</ul>\n<span style="font-family: Inter\, Helvetica\, Arial\, sans-serif\;"><span style="font-size:14px\;"><strong><a href="http://www.texasleadershipabilene.com/apps/pages/SchoolSupplies"><span style="color:#0000FF\;">Texas Leadership of Abilene</span></a></strong></span><br />\n<br />\n<span style="font-size:14px\;"><strong><a href="http://core-docs.s3.us-east-1.amazonaws.com/documents/asset/uploaded_file/3276/TISD/4553332/Trent_ISD_2024-2025_Elementary_School_Supply_List.pdf"><span style="color:#0000FF\;">Trent Elementary School</span></a></strong></span><br />\n<br />\n<span style="font-size:14px\;"><strong><a href="http://www.wyliebulldogs.org/site/Default.aspx?PageID=155"><span style="color:#0000FF\;">Wylie ISD</span></a></strong></span></span>
LOCATION:Potosi Live 897 FM 1750 Abilene\, TX 79602
UID:e.3433.5697
SEQUENCE:3
DTSTAMP:20260421T132832Z
URL:https://business.abileneworks.com/events/details/leadership-abilene-alumni-class-reunion-sponsored-by-united-supermarkets-5697
END:VEVENT

END:VCALENDAR
