BEGIN:VCALENDAR
VERSION:2.0
PRODID:-//ChamberMaster//Event Calendar 2.0//EN
METHOD:PUBLISH
X-PUBLISHED-TTL:P3D
REFRESH-INTERVAL:P3D
CALSCALE:GREGORIAN
BEGIN:VEVENT
DTSTART:20250715T223000Z
DTEND:20250715T233000Z
X-MICROSOFT-CDO-ALLDAYEVENT:FALSE
SUMMARY:Introduction to QuickBooks for Small Businesses
DESCRIPTION:QuickBooks Online Training Workshop   learn how to streamline your accounting and take charge of your business finances using QuickBooks.
X-ALT-DESC;FMTTYPE=text/html:QuickBooks Online Training Workshop &mdash\; learn how to streamline your accounting and take charge of your business finances using QuickBooks.
LOCATION:749 Gateway St.\, Ste. 301 Abilene\, TX 79602
UID:e.3433.5659
SEQUENCE:3
DTSTAMP:20260421T144846Z
URL:https://business.abileneworks.com/events/details/introduction-to-quickbooks-for-small-businesses-5659
END:VEVENT

END:VCALENDAR
