BEGIN:VCALENDAR
VERSION:2.0
PRODID:-//ChamberMaster//Event Calendar 2.0//EN
METHOD:PUBLISH
X-PUBLISHED-TTL:P3D
REFRESH-INTERVAL:P3D
CALSCALE:GREGORIAN
BEGIN:VEVENT
DTSTART:20250516T133000Z
DTEND:20250516T170000Z
X-MICROSOFT-CDO-ALLDAYEVENT:FALSE
SUMMARY:How to Supervise People and Lead a Team Seminar - in partnership with Glenn Shephard Seminars
DESCRIPTION:Please join us for our SHRM accredited seminar\, "How to Supervise People and Lead a Team". Our Chamber will host\, Glenn Shephard. In this seminar\, you'll learn how to attract good employees in a super-tight labor market\, motivate people\, manage Millennials and Gen Z employees\, get people to stay\, manage problem employees\, and much more.\n\n\n\nAbout our speaker\, Glenn Shephard:\n\nGlenn is the author of the famous and much-quoted text\, "How to Manage Problem Employees." This is 100% practical\, 100% valuable workshop for people in business.  He will show you how to get employees with today's poor work ethic back to where it was 50 years ago when people appreciated their jobs\, respected their superiors\, worked hard to earn their paychecks\, and didn't expect everything to be handed to them. He'll give you more useful tips about supervising people in one day than most managers learn in an entire career.\n\n \n\nGlenn\, Ivan Allen College of Management at the Georgia Institute of Technology.  . He's the author of six books\, including the #1 national best seller\, "How to Be the Employee Your Company Can't Live Without". Managers in over 20 countries subscribe to his weekly newsletter\, "Work is Not for Sissies
X-ALT-DESC;FMTTYPE=text/html:<span style="font-size:14px\;"><span style="font-family:arial\;">Please join us for our SHRM accredited seminar\, &quot\;How to Supervise People and Lead a Team&quot\;. Our Chamber will host\, Glenn Shephard. In this seminar\, you&rsquo\;ll learn how to attract good employees in a super-tight labor market\, motivate people\, manage Millennials and Gen Z employees\, get people to stay\, manage problem employees\, and much more.<br />\n<br />\n<strong>About our speaker\, Glenn Shephard:</strong><br />\nGlenn is the author of the famous and much-quoted text\, <em>&ldquo\;How to Manage Problem Employees.&rdquo\;</em> This is 100% practical\, 100% valuable workshop for people in business.&nbsp\; He will show you how to get employees with today&rsquo\;s poor work ethic back to where it was 50 years ago when people appreciated their jobs\, respected their superiors\, worked hard to earn their paychecks\, and didn&rsquo\;t expect everything to be handed to them. He&rsquo\;ll give you more useful tips about supervising people in one day than most managers learn in an entire career.<br />\n&nbsp\;<br />\nGlenn\, Ivan Allen College of Management at the Georgia Institute of Technology.&nbsp\; . He&rsquo\;s the author of six books\, including the #1 national best seller\, &ldquo\;How to Be the Employee Your Company Can&rsquo\;t Live Without&rdquo\;. Managers in over 20 countries subscribe to his weekly newsletter\, &ldquo\;Work is Not for Sissies</span></span>
LOCATION:Texas Tech University Health Science Center Julia Jones Matthews School of Population and Public Health Building 1674 Pine St\, Abilene\, TX 79601 Further information on Building Location: As you enter the campus parking lot from Pine Street\, make a left turn and drive towards the left side of the building. The Julia Jones Matthews School faces south\, towards Downtown Abilene.
UID:e.3433.5586
SEQUENCE:3
DTSTAMP:20260421T163427Z
URL:https://business.abileneworks.com/events/details/how-to-supervise-people-and-lead-a-team-seminar-in-partnership-with-glenn-shephard-seminars-5586
END:VEVENT

END:VCALENDAR
