BEGIN:VCALENDAR
VERSION:2.0
PRODID:-//ChamberMaster//Event Calendar 2.0//EN
METHOD:PUBLISH
X-PUBLISHED-TTL:P3D
REFRESH-INTERVAL:P3D
CALSCALE:GREGORIAN
BEGIN:VEVENT
DTSTART:20250503T160000Z
DTEND:20250503T210000Z
X-MICROSOFT-CDO-ALLDAYEVENT:FALSE
SUMMARY:Hendrick Health Wellness Fair
DESCRIPTION:This free community event will include health assessments and screenings\, interactive booths and demos and presentations by medical experts. For more information\, visit hendrick.health/wellnessfair.
X-ALT-DESC;FMTTYPE=text/html:This free community event will include health assessments and screenings\, interactive booths and demos and presentations by medical experts. For more information\, visit hendrick.health/wellnessfair.
LOCATION:Mall of Abilene\, 4310 Buffalo Gap Road
UID:e.3433.5621
SEQUENCE:3
DTSTAMP:20260421T180502Z
URL:https://business.abileneworks.com/events/details/hendrick-health-wellness-fair-05-03-2025-5621
END:VEVENT

END:VCALENDAR
