BEGIN:VCALENDAR
VERSION:2.0
PRODID:-//ChamberMaster//Event Calendar 2.0//EN
METHOD:PUBLISH
X-PUBLISHED-TTL:P3D
REFRESH-INTERVAL:P3D
CALSCALE:GREGORIAN
BEGIN:VEVENT
DTSTART:20250818T160000Z
DTEND:20250818T180000Z
X-MICROSOFT-CDO-ALLDAYEVENT:FALSE
SUMMARY:Hardin-Simmons University Work Study Job Fair
DESCRIPTION:Are you looking for talented\, motivated university students to join your team part-time? Mark your calendars for the Hardin-Simmons Part-Time Job Fair! ?? When: August 28\, 2025 ? Time: 11:00 AM - 1:00 PM ?? Where: Moody 108\, Hardin-Simmons University This is your chance to connect with bright\, ambitious students who are eager to gain real-world experience while balancing their studies. Whether you're looking for: Administrative support Customer service representatives Marketing interns Research assistants Or any other part-time positions Our students bring fresh perspectives\, strong work ethics\, and the flexibility that makes them perfect part-time employees. Ready to participate? Send an email to nick.edwards@hsutx.edu with: ? Your business name ? Brief introduction of what positions you're hiring for ? Any specific requirements or details
X-ALT-DESC;FMTTYPE=text/html:Are you looking for talented\, motivated university students to join your team part-time? Mark your calendars for the Hardin-Simmons Part-Time Job Fair! ?? When: August 28\, 2025 ? Time: 11:00 AM - 1:00 PM ?? Where: Moody 108\, Hardin-Simmons University This is your chance to connect with bright\, ambitious students who are eager to gain real-world experience while balancing their studies. Whether you&#39\;re looking for: Administrative support Customer service representatives Marketing interns Research assistants Or any other part-time positions Our students bring fresh perspectives\, strong work ethics\, and the flexibility that makes them perfect part-time employees. Ready to participate? Send an email to nick.edwards@hsutx.edu with: ? Your business name ? Brief introduction of what positions you&#39\;re hiring for ? Any specific requirements or details
LOCATION:Moody 108\, Hardin-Simmons University
UID:e.3433.5690
SEQUENCE:3
DTSTAMP:20260421T132621Z
URL:https://business.abileneworks.com/events/details/hardin-simmons-university-work-study-job-fair-5690
END:VEVENT

END:VCALENDAR
