BEGIN:VCALENDAR
VERSION:2.0
PRODID:-//ChamberMaster//Event Calendar 2.0//EN
METHOD:PUBLISH
X-PUBLISHED-TTL:P3D
REFRESH-INTERVAL:P3D
CALSCALE:GREGORIAN
BEGIN:VEVENT
DTSTART:20250417T160000Z
DTEND:20250417T170000Z
X-MICROSOFT-CDO-ALLDAYEVENT:FALSE
SUMMARY:Grow with Google: Use YouTube to Grow Your Business
DESCRIPTION:Learn how to use YouTube and the power of video to promote your business or brand. In this workshop we'll cover:   How to create a YouTube channel   Adding videos and organize your channel   How to promote your business with video ads
X-ALT-DESC;FMTTYPE=text/html:Learn how to use YouTube and the power of video to promote your business or brand. In this workshop we&rsquo\;ll cover: &bull\; How to create a YouTube channel &bull\; Adding videos and organize your channel &bull\; How to promote your business with video ads
LOCATION:749 Gateway St.\, Ste. 301 79602
UID:e.3433.5598
SEQUENCE:3
DTSTAMP:20260421T195438Z
URL:https://business.abileneworks.com/events/details/grow-with-google-use-youtube-to-grow-your-business-04-17-2025-5598
END:VEVENT

END:VCALENDAR
