BEGIN:VCALENDAR
VERSION:2.0
PRODID:-//ChamberMaster//Event Calendar 2.0//EN
METHOD:PUBLISH
X-PUBLISHED-TTL:P3D
REFRESH-INTERVAL:P3D
CALSCALE:GREGORIAN
BEGIN:VEVENT
DTSTART:20250417T183000Z
DTEND:20250417T193000Z
X-MICROSOFT-CDO-ALLDAYEVENT:FALSE
SUMMARY:Grand Opening Ribbon Cutting - Permian Basin Drug & Alcohol Testing
DESCRIPTION:Join us as we celebrate the grand opening Permian Basin Drug & Alcohol Testing!
X-ALT-DESC;FMTTYPE=text/html:Join us as we celebrate the grand opening Permian Basin Drug &amp\; Alcohol Testing!
LOCATION:317 N Willis St Abilene\, TX 79603
UID:e.3433.5592
SEQUENCE:3
DTSTAMP:20260421T195304Z
URL:https://business.abileneworks.com/events/details/grand-opening-ribbon-cutting-permian-basin-drug-alcohol-testing-5592
END:VEVENT

END:VCALENDAR
