BEGIN:VCALENDAR
VERSION:2.0
PRODID:-//ChamberMaster//Event Calendar 2.0//EN
METHOD:PUBLISH
X-PUBLISHED-TTL:P3D
REFRESH-INTERVAL:P3D
CALSCALE:GREGORIAN
BEGIN:VEVENT
DTSTART:20250926T150000Z
DTEND:20250926T160000Z
X-MICROSOFT-CDO-ALLDAYEVENT:FALSE
SUMMARY:Grand Opening Ribbon Cutting of THE ROC
DESCRIPTION:Come check out AYSA's outdoor expansion\, THE ROC at their grand opening this Friday!
X-ALT-DESC;FMTTYPE=text/html:Come check out AYSA&#39\;s outdoor expansion\, THE ROC at their grand opening this Friday!&nbsp\;
LOCATION:
UID:e.3433.5921
SEQUENCE:3
DTSTAMP:20260421T115203Z
URL:https://business.abileneworks.com/events/details/grand-opening-ribbon-cutting-of-the-roc-5921
END:VEVENT

END:VCALENDAR
