BEGIN:VCALENDAR
VERSION:2.0
PRODID:-//ChamberMaster//Event Calendar 2.0//EN
METHOD:PUBLISH
X-PUBLISHED-TTL:P3D
REFRESH-INTERVAL:P3D
CALSCALE:GREGORIAN
BEGIN:VEVENT
DTSTART:20250925T210000Z
DTEND:20250925T220000Z
X-MICROSOFT-CDO-ALLDAYEVENT:FALSE
SUMMARY:Grand Opening Ribbon Cutting - Arrow Ford Service Department
DESCRIPTION:Coming join us as we celebrate with the Arrow Ford team the grand opening of the newly remodeled Service Department!
X-ALT-DESC;FMTTYPE=text/html:Coming join us as we celebrate with the Arrow Ford team the grand opening of the newly remodeled Service Department!
LOCATION:4001 S 1st Street Abilene\, TX 79605
UID:e.3433.5920
SEQUENCE:3
DTSTAMP:20260421T103103Z
URL:https://business.abileneworks.com/events/details/grand-opening-ribbon-cutting-arrow-ford-service-department-5920
END:VEVENT

END:VCALENDAR
