BEGIN:VCALENDAR
VERSION:2.0
PRODID:-//ChamberMaster//Event Calendar 2.0//EN
METHOD:PUBLISH
X-PUBLISHED-TTL:P3D
REFRESH-INTERVAL:P3D
CALSCALE:GREGORIAN
BEGIN:VEVENT
DTSTART:20250815T160000Z
DTEND:20250815T170000Z
X-MICROSOFT-CDO-ALLDAYEVENT:FALSE
SUMMARY:Grand Opening Ribbon Cutting - 32 Degrees
DESCRIPTION:Come out and show your support of the new name change for 32 Degrees!
X-ALT-DESC;FMTTYPE=text/html:Come out and show your support of the new name change for 32 Degrees!&nbsp\;
LOCATION:1158 EN 10th St Abilene\, TX 79601
UID:e.3433.5696
SEQUENCE:3
DTSTAMP:20260421T132551Z
URL:https://business.abileneworks.com/events/details/grand-opening-ribbon-cutting-32-degrees-5696
END:VEVENT

END:VCALENDAR
