BEGIN:VCALENDAR
VERSION:2.0
PRODID:-//ChamberMaster//Event Calendar 2.0//EN
METHOD:PUBLISH
X-PUBLISHED-TTL:P3D
REFRESH-INTERVAL:P3D
CALSCALE:GREGORIAN
BEGIN:VEVENT
DTSTART:20250922T170000Z
DTEND:20250922T180000Z
X-MICROSOFT-CDO-ALLDAYEVENT:FALSE
SUMMARY:Grand Opening /Relocation Ribbon Cutting - Chick-fil-A
DESCRIPTION:Come join the Redcoats and celebrate with the Chick-fil-A team their new location! Don't forget to dress like a cow!
X-ALT-DESC;FMTTYPE=text/html:Come join the Redcoats and celebrate with the Chick-fil-A team their new location! Don&#39\;t forget to dress like a cow!
LOCATION:4355 Southwest Drive Abilene\, TX 79605
UID:e.3433.5919
SEQUENCE:3
DTSTAMP:20260421T102629Z
URL:https://business.abileneworks.com/events/details/grand-opening-relocation-ribbon-cutting-chick-fil-a-5919
END:VEVENT

END:VCALENDAR
