BEGIN:VCALENDAR
VERSION:2.0
PRODID:-//ChamberMaster//Event Calendar 2.0//EN
METHOD:PUBLISH
X-PUBLISHED-TTL:P3D
REFRESH-INTERVAL:P3D
CALSCALE:GREGORIAN
BEGIN:VEVENT
DTSTART:20250408T140000Z
DTEND:20250409T030000Z
X-MICROSOFT-CDO-ALLDAYEVENT:FALSE
SUMMARY:Grand Opening - Landmark at Abilene
DESCRIPTION:Join us as we celebrate the grand opening of Landmark at Abilene!!!
X-ALT-DESC;FMTTYPE=text/html:Join us as we celebrate the grand opening of Landmark at Abilene!!!&nbsp\;
LOCATION:1101 S 9th St Abilene\, TX 79602
UID:e.3433.5575
SEQUENCE:3
DTSTAMP:20260421T195120Z
URL:https://business.abileneworks.com/events/details/grand-opening-landmark-at-abilene-5575
END:VEVENT

END:VCALENDAR
