BEGIN:VCALENDAR
VERSION:2.0
PRODID:-//ChamberMaster//Event Calendar 2.0//EN
METHOD:PUBLISH
X-PUBLISHED-TTL:P3D
REFRESH-INTERVAL:P3D
CALSCALE:GREGORIAN
BEGIN:VEVENT
DTSTART:20250802T223000Z
DTEND:20250803T000000Z
X-MICROSOFT-CDO-ALLDAYEVENT:FALSE
SUMMARY:Flying Bison End of Season Tailgate Party
DESCRIPTION:Join your host Grain Theory Brewery as we partner with the Abilene Flying Bison mid-America minor league baseball team to end the 2025 season off with a bang! This is a family friendly event for the whole community and free to attend\, just don't forget to bring your lawn chair and hang out under the shade tents for a bit. The section of Amarillo St. directly across from Walt Driggers Field located at 1801 Amarillo street will be shut down for the tailgate party with plenty of parking surrounding the field. We'll have a food truck\, snow cones\, inflatable obstacle courses\, a dunk tank\, Flying Bison team meet & greets\, and of course\, ice cold beer to help you beat the heat! ACTIVITIES: -Face Painting -Inflatable obstacle course -dunk tank -activities by 5 Star Nutrition -Gaming Trailer by Green Games -Dog boutique & bakery from MacMillieCo -Hat bar from Double B Trends Snow cones from Zombie Cones Enjoy a great bbq meal before the game from Sherrod's BBQ food truck VENDORS: -Double B Trends -Bakes for Angels -Naomi's Tienditas -The Sticker Lady -MacMillieC0 -5StarNutrition -MuthaHerbs -Caitie Pies -MooRue's Macs The tailgate party will be rolling from 5:30pm until 7:00pm\, and first pitch inside the ballpark is scheduled to go out at 7:00pm!
X-ALT-DESC;FMTTYPE=text/html:Join your host Grain Theory Brewery as we partner with the Abilene Flying Bison mid-America minor league baseball team to end the 2025 season off with a bang! This is a family friendly event for the whole community and free to attend\, just don&rsquo\;t forget to bring your lawn chair and hang out under the shade tents for a bit. The section of Amarillo St. directly across from Walt Driggers Field located at 1801 Amarillo street will be shut down for the tailgate party with plenty of parking surrounding the field. We&rsquo\;ll have a food truck\, snow cones\, inflatable obstacle courses\, a dunk tank\, Flying Bison team meet &amp\; greets\, and of course\, ice cold beer to help you beat the heat! ACTIVITIES: -Face Painting -Inflatable obstacle course -dunk tank -activities by 5 Star Nutrition -Gaming Trailer by Green Games -Dog boutique &amp\; bakery from MacMillieCo -Hat bar from Double B Trends Snow cones from Zombie Cones Enjoy a great bbq meal before the game from Sherrod&rsquo\;s BBQ food truck VENDORS: -Double B Trends -Bakes for Angels -Naomi&rsquo\;s Tienditas -The Sticker Lady -MacMillieC0 -5StarNutrition -MuthaHerbs -Caitie Pies -MooRue&rsquo\;s Macs The tailgate party will be rolling from 5:30pm until 7:00pm\, and first pitch inside the ballpark is scheduled to go out at 7:00pm!
LOCATION:Walt Driggers Field 1801 Amarillo Street
UID:e.3433.5688
SEQUENCE:3
DTSTAMP:20260421T115120Z
URL:https://business.abileneworks.com/events/details/flying-bison-end-of-season-tailgate-party-5688
END:VEVENT

END:VCALENDAR
