BEGIN:VCALENDAR
VERSION:2.0
PRODID:-//ChamberMaster//Event Calendar 2.0//EN
METHOD:PUBLISH
X-PUBLISHED-TTL:P3D
REFRESH-INTERVAL:P3D
CALSCALE:GREGORIAN
BEGIN:VEVENT
DTSTART:20241107T150000Z
DTEND:20241110T030000Z
X-MICROSOFT-CDO-ALLDAYEVENT:FALSE
SUMMARY:Festival of Trees
DESCRIPTION:A winter wonderland community event that will captivate attendees of all ages. The festival of Trees will showcase an array of beautifully decorated Christmas trees & centerpieces\, each uniquely adorned by local businesses\, organizations\, and community members. All visitors can purchase tickets to be entered into a drawing to win their favorite tree. The event will feature: A beautiful array of Christmas trees\, lively online auctions\, in-person silent auction\, pictures with Santa\, and drawing for trees & centerpieces.
X-ALT-DESC;FMTTYPE=text/html:A winter wonderland community event that will captivate attendees of all ages. The festival of Trees will showcase an array of beautifully decorated Christmas trees &amp\; centerpieces\, each uniquely adorned by local businesses\, organizations\, and community members. All visitors can purchase tickets to be entered into a drawing to win their favorite tree. The event will feature: A beautiful array of Christmas trees\, lively online auctions\, in-person silent auction\, pictures with Santa\, and drawing for trees &amp\; centerpieces.
LOCATION:DoubleTree by Hilton
UID:e.3433.5389
SEQUENCE:3
DTSTAMP:20260422T041609Z
URL:https://business.abileneworks.com/events/details/festival-of-trees-5389
END:VEVENT

END:VCALENDAR
