BEGIN:VCALENDAR
VERSION:2.0
PRODID:-//ChamberMaster//Event Calendar 2.0//EN
METHOD:PUBLISH
X-PUBLISHED-TTL:P3D
REFRESH-INTERVAL:P3D
CALSCALE:GREGORIAN
BEGIN:VEVENT
DTSTART:20250814T150000Z
DTEND:20250814T160000Z
X-MICROSOFT-CDO-ALLDAYEVENT:FALSE
SUMMARY:Enhanced Ribbon Cutting - Relocation of Behavioral Focus LLC
DESCRIPTION:Come join the Redcoats as we celebrate the new location of Behavioral Focus!
X-ALT-DESC;FMTTYPE=text/html:Come join the Redcoats as we celebrate the new location of Behavioral Focus!
LOCATION:2510 Buffalo Gap Rd Abilene\, TX 79605
UID:e.3433.5694
SEQUENCE:3
DTSTAMP:20260421T115037Z
URL:https://business.abileneworks.com/events/details/enhanced-ribbon-cutting-relocation-of-behavioral-focus-llc-5694
END:VEVENT

END:VCALENDAR
