BEGIN:VCALENDAR
VERSION:2.0
PRODID:-//ChamberMaster//Event Calendar 2.0//EN
METHOD:PUBLISH
X-PUBLISHED-TTL:P3D
REFRESH-INTERVAL:P3D
CALSCALE:GREGORIAN
BEGIN:VEVENT
DTSTART:20250826T190000Z
DTEND:20250826T200000Z
X-MICROSOFT-CDO-ALLDAYEVENT:FALSE
SUMMARY:Enhanced Ribbon Cutting - Grand Opening - Premier Resort Assisted Living and Memory Care
DESCRIPTION:Join the Redcoats and the Premier Resort Assisted Living and Memory Care team as we celebrate their grand opening with an enhanced ribbon cutting!
X-ALT-DESC;FMTTYPE=text/html:Join the Redcoats and the&nbsp\;<span style="color: rgb(51\, 51\, 51)\; font-family: sans-serif\, Arial\, Verdana\, &quot\;Trebuchet MS&quot\;\; font-size: 13px\; background-color: rgb(255\, 255\, 255)\;">Premier Resort Assisted Living and Memory Care&nbsp\;</span>team as we celebrate their grand opening with an enhanced ribbon cutting!&nbsp\;
LOCATION:3719 State Highway 351 Abilene\, TX 79601
UID:e.3433.5695
SEQUENCE:3
DTSTAMP:20260421T115324Z
URL:https://business.abileneworks.com/events/details/enhanced-ribbon-cutting-grand-opening-premier-resort-assisted-living-and-memory-care-5695
END:VEVENT

END:VCALENDAR
