BEGIN:VCALENDAR
VERSION:2.0
PRODID:-//ChamberMaster//Event Calendar 2.0//EN
METHOD:PUBLISH
X-PUBLISHED-TTL:P3D
REFRESH-INTERVAL:P3D
CALSCALE:GREGORIAN
BEGIN:VEVENT
DTSTART:20250812T163000Z
DTEND:20250812T180000Z
X-MICROSOFT-CDO-ALLDAYEVENT:FALSE
SUMMARY:DCOS Lunch & Learn: AI-Powered Marketing for Small Businesses
DESCRIPTION:Discover how artificial intelligence can transform your small business marketing strategy\, no tech background required! In this engaging and practical training session\, you'll learn how to use AI tools to save time\, boost engagement\, and grow your business with smarter\, more effective marketing. From content creation to ad optimization and ethical considerations\, this session is your step-by-step guide to getting started with AI the right way.
X-ALT-DESC;FMTTYPE=text/html:Discover how artificial intelligence can transform your small business marketing strategy\, no tech background required! In this engaging and practical training session\, you&#39\;ll learn how to use AI tools to save time\, boost engagement\, and grow your business with smarter\, more effective marketing. From content creation to ad optimization and ethical considerations\, this session is your step-by-step guide to getting started with AI the right way.
LOCATION:2514 Ave. R\, Snyder TX 79549-2525
UID:e.3433.5678
SEQUENCE:3
DTSTAMP:20260421T115228Z
URL:https://business.abileneworks.com/events/details/dcos-lunch-learn-ai-powered-marketing-for-small-businesses-08-12-2025-5678
END:VEVENT

END:VCALENDAR
