BEGIN:VCALENDAR
VERSION:2.0
PRODID:-//ChamberMaster//Event Calendar 2.0//EN
METHOD:PUBLISH
X-PUBLISHED-TTL:P3D
REFRESH-INTERVAL:P3D
CALSCALE:GREGORIAN
BEGIN:VEVENT
DTSTART:20250925T160000Z
DTEND:20250925T170000Z
X-MICROSOFT-CDO-ALLDAYEVENT:FALSE
SUMMARY:Cybersecurity Basics for Small Business: What You Don't Know Can Hurt You
DESCRIPTION:Cybersecurity is an important issue for businesses of all sizes. In this workshop\, we'll introduce the basics of online security and how it applies to your business and customers. You'll learn ways you can identify common digital threats and steps you can take to protect your business. You'll walk away with practical tips and tools to increase your business' cybersecurity\, as well as learn about the Google Cybersecurity Career Certificate to help your employees build skills in this space. In this session we'll talk about: Why cybersecurity matters for businesses of all sizes How to protect your business and your customers online What steps you can take after a potential security breach
X-ALT-DESC;FMTTYPE=text/html:Cybersecurity is an important issue for businesses of all sizes. In this workshop\, we&rsquo\;ll introduce the basics of online security and how it applies to your business and customers. You&rsquo\;ll learn ways you can identify common digital threats and steps you can take to protect your business. You&rsquo\;ll walk away with practical tips and tools to increase your business&rsquo\; cybersecurity\, as well as learn about the Google Cybersecurity Career Certificate to help your employees build skills in this space. In this session we&rsquo\;ll talk about: Why cybersecurity matters for businesses of all sizes How to protect your business and your customers online What steps you can take after a potential security breach
LOCATION:Online/ Zoom
UID:e.3433.5685
SEQUENCE:3
DTSTAMP:20260421T102835Z
URL:https://business.abileneworks.com/events/details/cybersecurity-basics-for-small-business-what-you-don-t-know-can-hurt-you-5685
END:VEVENT

END:VCALENDAR
