BEGIN:VCALENDAR
VERSION:2.0
PRODID:-//ChamberMaster//Event Calendar 2.0//EN
METHOD:PUBLISH
X-PUBLISHED-TTL:P3D
REFRESH-INTERVAL:P3D
CALSCALE:GREGORIAN
BEGIN:VEVENT
DTSTART:20250819T163000Z
DTEND:20250819T180000Z
X-MICROSOFT-CDO-ALLDAYEVENT:FALSE
SUMMARY:Coleman Chamber of Commerce: Introduction to QuickBooks for Small Businesses
DESCRIPTION:QuickBooks Training Workshop   Learn how to streamline your accounting and take charge of your business finances using QuickBooks.
X-ALT-DESC;FMTTYPE=text/html:QuickBooks Training Workshop &mdash\; Learn how to streamline your accounting and take charge of your business finances using QuickBooks.
LOCATION:218 S Commercial Ave\, Coleman TX 76834-4212
UID:e.3433.5680
SEQUENCE:3
DTSTAMP:20260421T115227Z
URL:https://business.abileneworks.com/events/details/coleman-chamber-of-commerce-introduction-to-quickbooks-for-small-businesses-5680
END:VEVENT

END:VCALENDAR
