BEGIN:VCALENDAR
VERSION:2.0
PRODID:-//ChamberMaster//Event Calendar 2.0//EN
METHOD:PUBLISH
X-PUBLISHED-TTL:P3D
REFRESH-INTERVAL:P3D
CALSCALE:GREGORIAN
BEGIN:VEVENT
DTSTART:20250521T223000Z
DTEND:20250521T233000Z
X-MICROSOFT-CDO-ALLDAYEVENT:FALSE
SUMMARY:Buying or Selling an Established Business
DESCRIPTION:Are you considering buying or selling an established business? This workshop is designed to guide you through every step of the process. Whether you're looking to expand your portfolio or plan your next exit\, you'll learn how to: Identify the right business opportunities Evaluate businesses for sale Prepare for a smooth and successful transaction Join us and gain the insights you need to make your next move with confidence.
X-ALT-DESC;FMTTYPE=text/html:Are you considering buying or selling an established business? This workshop is designed to guide you through every step of the process. Whether you&#39\;re looking to expand your portfolio or plan your next exit\, you&#39\;ll learn how to: Identify the right business opportunities Evaluate businesses for sale Prepare for a smooth and successful transaction Join us and gain the insights you need to make your next move with confidence.
LOCATION:Abilene SBDC 749 Gateway St.\, Ste. 301 Abilene\, TX 79602
UID:e.3433.5626
SEQUENCE:3
DTSTAMP:20260421T180247Z
URL:https://business.abileneworks.com/events/details/buying-or-selling-an-established-business-5626
END:VEVENT

END:VCALENDAR
