BEGIN:VCALENDAR
VERSION:2.0
PRODID:-//ChamberMaster//Event Calendar 2.0//EN
METHOD:PUBLISH
X-PUBLISHED-TTL:P3D
REFRESH-INTERVAL:P3D
CALSCALE:GREGORIAN
BEGIN:VEVENT
DTSTART:20250227T140000Z
DTEND:20250227T230000Z
X-MICROSOFT-CDO-ALLDAYEVENT:FALSE
SUMMARY:Boots to Business Reboot: Military Spouse Pathway to Business
DESCRIPTION:Military Spouse Pathway to Business Pathway to Business (P2B) is an introduction to entrepreneurship course presented by America's SBDC at Texas Tech University   Abilene\, in partnership with the SBA\, Veteran's Business Outreach Center\, and The Development Corporation of Abilene. This course will: Give you an overview of what it takes to start a small business Introduce you to SBA and partner resources that can assist you with your starting or growing your business Introduce you to follow-on courses Participation in this course is limited to military spouses and military veteran spouses. Class Size is limited to 10 participants
X-ALT-DESC;FMTTYPE=text/html:Military Spouse Pathway to Business Pathway to Business (P2B) is an introduction to entrepreneurship course presented by America&rsquo\;s SBDC at Texas Tech University &ndash\; Abilene\, in partnership with the SBA\, Veteran&rsquo\;s Business Outreach Center\, and The Development Corporation of Abilene. This course will: Give you an overview of what it takes to start a small business Introduce you to SBA and partner resources that can assist you with your starting or growing your business Introduce you to follow-on courses Participation in this course is limited to military spouses and military veteran spouses. Class Size is limited to 10 participants
LOCATION:749 Gateway St.\, Ste. 301 Abilene\, TX 79602
UID:e.3433.5548
SEQUENCE:3
DTSTAMP:20260421T231659Z
URL:https://business.abileneworks.com/events/details/boots-to-business-reboot-military-spouse-pathway-to-business-02-27-2025-5548
END:VEVENT

END:VCALENDAR
