BEGIN:VCALENDAR
VERSION:2.0
PRODID:-//ChamberMaster//Event Calendar 2.0//EN
METHOD:PUBLISH
X-PUBLISHED-TTL:P3D
REFRESH-INTERVAL:P3D
CALSCALE:GREGORIAN
BEGIN:VEVENT
DTSTART:20250626T223000Z
DTEND:20250626T233000Z
X-MICROSOFT-CDO-ALLDAYEVENT:FALSE
SUMMARY:AI-Powered Marketing for Small Businesses
DESCRIPTION:Discover how artificial intelligence can transform your small business marketing strategy\, no tech background required! In this engaging and practical training session\, you'll learn how to use AI tools to save time\, boost engagement\, and grow your business with smarter\, more effective marketing. From content creation to ad optimization and ethical considerations\, this session is your step-by-step guide to getting started with AI the right way. Whether you're a solopreneur juggling it all or a small team looking to work smarter not harder\, this workshop will empower you to take action immediately.
X-ALT-DESC;FMTTYPE=text/html:Discover how artificial intelligence can transform your small business marketing strategy\, no tech background required! In this engaging and practical training session\, you&#39\;ll learn how to use AI tools to save time\, boost engagement\, and grow your business with smarter\, more effective marketing. From content creation to ad optimization and ethical considerations\, this session is your step-by-step guide to getting started with AI the right way. Whether you&#39\;re a solopreneur juggling it all or a small team looking to work smarter&mdash\;not harder\, this workshop will empower you to take action immediately.
LOCATION:Abilene SBDC 749 Gateway St.\, Ste. 301 79602
UID:e.3433.5642
SEQUENCE:3
DTSTAMP:20260421T163223Z
URL:https://business.abileneworks.com/events/details/ai-powered-marketing-for-small-businesses-5642
END:VEVENT

END:VCALENDAR
