BEGIN:VCALENDAR
VERSION:2.0
PRODID:-//ChamberMaster//Event Calendar 2.0//EN
METHOD:PUBLISH
X-PUBLISHED-TTL:P3D
REFRESH-INTERVAL:P3D
CALSCALE:GREGORIAN
BEGIN:VEVENT
DTSTART:20250530T213000Z
DTEND:20250530T223000Z
X-MICROSOFT-CDO-ALLDAYEVENT:FALSE
SUMMARY:Abilene Angel Network Monthly Meetup
DESCRIPTION:Join us at Grain Theory Friday\, May 30th at 4:30 PM to learn about the Abilene Regional Growth Alliance's partnership with the Central Texas Angel Network and how our angel community is helping grow our entrepreneur ecosystem!
X-ALT-DESC;FMTTYPE=text/html:<span style="color: rgb(0\, 0\, 0)\; font-family: Aptos\, sans-serif\; font-size: 16px\;">Join us at&nbsp\;</span><span style="border: 0px\; font-variant-numeric: inherit\; font-variant-east-asian: inherit\; font-variant-alternates: inherit\; font-variant-position: inherit\; font-variant-emoji: inherit\; font-stretch: inherit\; font-size: 16px\; line-height: inherit\; font-family: Aptos\, sans-serif\; font-optical-sizing: inherit\; font-size-adjust: inherit\; font-kerning: inherit\; font-feature-settings: inherit\; font-variation-settings: inherit\; margin: 0px\; padding: 0px\; vertical-align: baseline\; color: rgb(0\, 0\, 0)\; background-color: yellow\;">Grain Theory Friday\, May 30th at 4:30 PM</span><span style="color: rgb(0\, 0\, 0)\; font-family: Aptos\, sans-serif\; font-size: 16px\;">&nbsp\;to learn about the Abilene Regional Growth Alliance&rsquo\;s partnership with the Central Texas Angel Network and how our angel community is helping grow our entrepreneur ecosystem!</span>
LOCATION:Grain Theory 202 Pine Street Abilene\, TX 79601
UID:e.3433.5634
SEQUENCE:3
DTSTAMP:20260421T180016Z
URL:https://business.abileneworks.com/events/details/abilene-angel-network-monthly-meetup-5634
END:VEVENT

END:VCALENDAR
