BEGIN:VCALENDAR
VERSION:2.0
PRODID:-//ChamberMaster//Event Calendar 2.0//EN
METHOD:PUBLISH
X-PUBLISHED-TTL:P3D
REFRESH-INTERVAL:P3D
CALSCALE:GREGORIAN
BEGIN:VEVENT
DTSTART:20250828T223000Z
DTEND:20250829T000000Z
X-MICROSOFT-CDO-ALLDAYEVENT:FALSE
SUMMARY:8.28.25 AYP After Five sponsored by Big Country Title
DESCRIPTION:Join us for this month's AYP After Five! Make connections with like-minded individuals that will last a lifetime at AYP After Five. Our August AYP After Five is sponsored by Big Country Title.\n\n\n\nThis is a casual come and go as you please event geared toward the 21-40 year old demographic in the Abilene area. Drinks\, light hors d'oeuvres\, and networking take place.\n\n\n\nFree for members\, free for first timers\, $10 for prospective members.\n\n\n\nPlease note: This event is being photographed and/or videotaped and your image may be used in connection with the advertising and promotion of the Abilene Chamber of Commerce.
X-ALT-DESC;FMTTYPE=text/html:<div data-block="true" data-editor="idcs" data-offset-key="7ea6n-0-0" style="font-family: Helvetica\, Arial\, sans-serif\; color: rgb(28\, 30\, 33)\; font-size: 12px\; white-space: pre-wrap\; background-color: rgb(255\, 255\, 255)\;">\n<div class="_1mf _1mj" data-offset-key="7ea6n-0-0" style="position: relative\; direction: ltr\; font-family: inherit\;">\n<div><span style="font-size:14px\;">Join us for this month&#39\;s AYP After Five! Make connections with like-minded individuals that will last a lifetime at AYP After Five. Our August AYP After Five is sponsored by Big Country Title.<br />\n<br />\nThis is a casual come and go as you please event geared toward the 21-40 year old demographic in the Abilene area. Drinks\, light hors d&#39\;oeuvres\, and networking take place.<br />\n<br />\nFree for members\, free for first timers\, $10 for prospective members.</span></div>\n\n<div><br />\n<span style="font-family:arial\;"><span style="box-sizing: border-box\; outline: 0px\;"><span style="box-sizing: border-box\; outline: 0px\; font-size: 9.33333px\;">Please note: This event is being photographed and/or videotaped and your image may be used in connection with the advertising and promotion of the Abilene Chamber of Commerce.</span></span></span></div>\n</div>\n</div>\n
LOCATION:The Warehouse Depot Co 357 Walnut St Abilene\, TX 79601
UID:e.3433.5674
SEQUENCE:3
DTSTAMP:20260421T115152Z
URL:https://business.abileneworks.com/events/details/8-28-25-ayp-after-five-sponsored-by-big-country-title-5674
END:VEVENT

END:VCALENDAR
