BEGIN:VCALENDAR
VERSION:2.0
PRODID:-//ChamberMaster//Event Calendar 2.0//EN
METHOD:PUBLISH
X-PUBLISHED-TTL:P3D
REFRESH-INTERVAL:P3D
CALSCALE:GREGORIAN
BEGIN:VEVENT
DTSTART:20250920T170000Z
DTEND:20250921T030000Z
X-MICROSOFT-CDO-ALLDAYEVENT:FALSE
SUMMARY:4th Annual Pride Parade and Festival
DESCRIPTION:Come join us for a day of joy and love! The festivities begin at 12 noon with a colorful parade downtown. Beginning at 1 PM\, join us the Civic Center for entertainment\, vendors and good food!
X-ALT-DESC;FMTTYPE=text/html:Come join us for a day of joy and love! The festivities begin at 12 noon with a colorful parade downtown. Beginning at 1 PM\, join us the Civic Center for entertainment\, vendors and good food!
LOCATION:Parade : Walnut / Pine Festival: Civic Center
UID:e.3433.5689
SEQUENCE:3
DTSTAMP:20260421T104158Z
URL:https://business.abileneworks.com/events/details/4th-annual-pride-parade-and-festival-5689
END:VEVENT

END:VCALENDAR
