BEGIN:VCALENDAR
VERSION:2.0
PRODID:-//ChamberMaster//Event Calendar 2.0//EN
METHOD:PUBLISH
X-PUBLISHED-TTL:P3D
REFRESH-INTERVAL:P3D
CALSCALE:GREGORIAN
BEGIN:VEVENT
DTSTART:20260507T203000Z
DTEND:20260507T213000Z
X-MICROSOFT-CDO-ALLDAYEVENT:FALSE
SUMMARY:30th Anniversary - The Skatin Place
DESCRIPTION:Join the team at The Skatin Place and the Redcoats as we celebrate their 30th Anniversary!
X-ALT-DESC;FMTTYPE=text/html:Join the team at The Skatin Place and the Redcoats as we celebrate their 30th Anniversary!
LOCATION:1930 S Clack St Abilene\, TX 79605
UID:e.3433.6076
SEQUENCE:3
DTSTAMP:20260423T191926Z
URL:https://business.abileneworks.com/events/details/30th-anniversary-the-skatin-place-6076
END:VEVENT

END:VCALENDAR
