BEGIN:VCALENDAR
VERSION:2.0
PRODID:-//ChamberMaster//Event Calendar 2.0//EN
METHOD:PUBLISH
X-PUBLISHED-TTL:P3D
REFRESH-INTERVAL:P3D
CALSCALE:GREGORIAN
BEGIN:VEVENT
DTSTART:20250227T150000Z
DTEND:20250228T230000Z
X-MICROSOFT-CDO-ALLDAYEVENT:FALSE
SUMMARY:2025 Texas Farm Ranch & Wildlife Expo presented by Lawrence Hall Abilene
DESCRIPTION:The longest running farm show in Texas is back! For the 26th year\, the Taylor County AgriLife Extension Service and the Abilene Chamber of Commerce are proud to co-host the 2025 Texas Farm Ranch & Wildlife Expo (TFRWE) Feb. 27 and 28 at the Taylor Telecom Arena\, presented by Lawrence Hall Abilene.\n\n \n\nThe Texas Farm Ranch & Wildlife Expo (TFRWE) is a unique\, one-of-a-kind agribusiness event that serves as an opportunity for vendors from across the country to connect with producers and consumers in the Texas agriculture industry! \n\n \n\nOn the second day of the event\, we will host the Agriculture Legacy Luncheon to honor the Agriculture Family of the Year\, sponsored by Taylor Telecom.\nWhat to expect:\n\n- More than 200 Booths\n\n- Attendance from over 3\,000 from the Big Country\n\n- Continuing education opportunities provided by the Texas A&M AgriLife Extension Office\n\n- Town & Country Women's Fair\n\n- The Rolling Plains Cotton Growers Association Annual Meeting\n\n- Special Live Demos and Panels\n\n\n\nWhy participate?\n\n- Reach a captive audience of potential customers\n\n- Showcase your company's products and services\n\n- Connect with new and current customers\n\n- Generate brand awareness\n\n- Network with professionals from every facet of business\n\n\n\nREGISTER FOR YOUR BOOTH HERE\n\n\n\nVIEW A LIST OF PAST EXHIBITORS HERE\n\n\n\nFull schedule\, details on continuing education units (CEU's)\, and other exhibitor information coming soon!\n\n\n\nPlease note: This event is being photographed and/or videotaped and your image may be used in connection with the advertising and promotion of the Abilene Chamber of Commerce.
X-ALT-DESC;FMTTYPE=text/html:<p class="font_8" style="box-sizing: inherit\; margin-bottom: 30px\; color: rgb(65\, 65\, 65)\; font-family: Montserrat\, Helvetica\, Arial\, sans-serif\; font-size: 16px\;"><span style="font-size:16px\;"><span style="font-family:arial\;"><span style="color:black\;">The longest running farm show in Texas is back! For the 26th&nbsp\;year\,&nbsp\;the Taylor County AgriLife Extension Service and the Abilene Chamber of Commerce&nbsp\;are proud to co-host the 2025&nbsp\;Texas Farm Ranch &amp\;&nbsp\;Wildlife Expo (TFRWE) Feb. 27&nbsp\;and 28&nbsp\;at the Taylor Telecom Arena\, presented by <a href="https://www.lawrencehallabileneonline.com/">Lawrence Hall Abilene</a>.<br />\n&nbsp\;<br />\nThe Texas Farm Ranch &amp\;&nbsp\;Wildlife Expo (TFRWE) is a unique\, one-of-a-kind agribusiness event that serves as an opportunity for vendors from across the country to connect with producers and consumers in&nbsp\;the Texas agriculture industry!&nbsp\;<br />\n&nbsp\;<br />\nOn the second day of the event\,&nbsp\;we will host the Agriculture Legacy Luncheon&nbsp\;to honor&nbsp\;the Agriculture Family of the Year\, sponsored by <a href="https://online.taylortel.net/" target="_blank">Taylor Telecom</a>.</span></span></span></p>\n<span style="font-size:16px\;"><span style="font-family:arial\;"><strong><span style="color: black\;">What to expect:</span></strong></span></span><br />\n<span style="font-size:16px\;"><span style="font-family:arial\;"><span style="color: black\;">- More than 200 Booths</span></span></span><br />\n<span style="font-size:16px\;"><span style="font-family:arial\;"><span style="color: black\;">- Attendance from over 3\,000 from the Big Country</span></span></span><br />\n<span style="font-size:16px\;"><span style="font-family:arial\;"><span style="color: black\;">- Continuing education opportunities provided by the Texas A&amp\;M AgriLife Extension Office</span></span></span><br />\n<span style="font-size:16px\;"><span style="font-family:arial\;"><span style="color: black\;">- Town &amp\; Country Women&#39\;s Fair</span></span></span><br />\n<span style="font-size:16px\;"><span style="font-family:arial\;"><font color="#000000">- The Rolling Plains Cotton Growers Association Annual Meeting</font></span></span><br />\n<span style="font-size:16px\;"><span style="font-family:arial\;"><font color="#000000">- Special Live Demos and Panels</font></span></span><br />\n<br />\n<span style="font-size:16px\;"><span style="font-family:arial\;"><span style="color:black\;"><strong>Why participate?</strong></span></span></span><br />\n<span style="font-size:16px\;"><span style="font-family:arial\;"><span style="color: black\;">- Reach a captive audience of potential customers</span></span></span><br />\n<span style="font-size:16px\;"><span style="font-family:arial\;"><span style="color: black\;">- Showcase your company&#39\;s products and services</span></span></span><br />\n<span style="font-size:16px\;"><span style="font-family:arial\;"><span style="color: black\;">- Connect with new and current customers</span></span></span><br />\n<span style="font-size:16px\;"><span style="font-family:arial\;"><span style="color: black\;">- Generate brand awareness</span></span></span><br />\n<span style="font-size:16px\;"><span style="font-family:arial\;"><span style="color: black\;">- Network with professionals from every facet of business</span><br />\n<br />\n<a href="https://chambermaster.blob.core.windows.net/userfiles/UserFiles/chambers/3433/File/TFRWE/2025TFRWEExhibitorContractV2.pdf"><span style="color:#FF0000\;"><strong>REGISTER FOR&nbsp\;</strong></span></a></span></span><span style="font-size:16px\;"><span style="font-family:arial\;"><strong><a href="https://chambermaster.blob.core.windows.net/userfiles/UserFiles/chambers/3433/File/TFRWE/2025TFRWEExhibitorContractV2.pdf"><span style="color:#FF0000\;">YOUR BOOTH HERE</span></a></strong><br />\n<br />\n<a href="https://chambermaster.blob.core.windows.net/userfiles/UserFiles/chambers/3433/File/TFRWE/FullListofPastTFRWEExhibitors.pdf"><span style="color:#000000\;"><strong>VIEW A LIST OF PAST EXHIBITORS HERE</strong></span></a><br />\n<br />\n<span style="color: black\;">Full schedule\, details on continuing education units (CEU&#39\;s)\, and other exhibitor information coming soon!</span></span></span>\n\n<p class="font_8" style="box-sizing: inherit\; margin-bottom: 30px\;"><br />\n<span style="font-size:14px\;"><span style="font-size:10px\;"><span style="font-family:arial\;"><em><span style="color: rgb(65\, 65\, 65)\; background: white\;"><span style="color:#333333\;">Please note: This event is being photographed and/or videotaped and your image may be used in connection with the advertising and promotion of the Abilene Chamber of Commerce.</span></span></em></span></span></span></p>\n
LOCATION:Taylor Telecom Arena\, Taylor County Expo Center
UID:e.3433.5383
SEQUENCE:3
DTSTAMP:20260421T231251Z
URL:https://business.abileneworks.com/events/details/2025-texas-farm-ranch-wildlife-expo-presented-by-lawrence-hall-abilene-5383
END:VEVENT

END:VCALENDAR
