BEGIN:VCALENDAR
VERSION:2.0
PRODID:-//ChamberMaster//Event Calendar 2.0//EN
METHOD:PUBLISH
X-PUBLISHED-TTL:P3D
REFRESH-INTERVAL:P3D
CALSCALE:GREGORIAN
BEGIN:VEVENT
DTSTART:20250211T170000Z
DTEND:20250211T190000Z
X-MICROSOFT-CDO-ALLDAYEVENT:FALSE
SUMMARY:2025 Economic Outlook presented by FirstBank & Trust\, a division of UMB
DESCRIPTION:The Abilene Chamber of Commerce and the Abilene Regional Growth Alliance presents the 2025 Economic Outlook\, sponsored by FirstBank & Trust\, a division of UMB. Join us as we bring together Chamber members and business owners to share market projections for the coming year. This year's speaker is Mariam Yousuf\, Business Economist from the Federal Reserve Bank of Dallas. \n\n\n\nPRICING:\n\nTables of 8 are $400\n\nIndividual Tickets are $50
X-ALT-DESC;FMTTYPE=text/html:<span style="font-size:14px\;"><span style="font-family:arial\;">The Abilene Chamber of Commerce and the Abilene Regional Growth Alliance presents the 2025 Economic Outlook\, sponsored by&nbsp\;<em><a href="https://www.firstbanktexas.com/" target="_blank"><span style="color:#000000\;">FirstBank &amp\; Trust</span></a>\, a division of UMB</em><span style="color:#000000\;">. Join us as we bring together Chamber members and business owners to share </span>market projections for the coming year. This year&#39\;s speaker is <a href="https://www.dallasfed.org/research/economists/yousuf">Mariam Yousuf</a>\, Business Economist from the Federal Reserve Bank of Dallas.&nbsp\;<br />\n<br />\n<strong>PRICING:</strong><br />\nTables of 8 are $400<br />\nIndividual Tickets are $50</span></span>\n<p class="p3" style="margin:0in\;font-stretch: normal\;-webkit-text-size-adjust: auto"><o:p></o:p></p>\n
LOCATION:Abilene Christian University Hunter Welcome Center 1949 ACU Dr\, Abilene\, TX 79699
UID:e.3433.5458
SEQUENCE:3
DTSTAMP:20260421T231537Z
URL:https://business.abileneworks.com/events/details/2025-economic-outlook-presented-by-firstbank-trust-a-division-of-umb-5458
END:VEVENT

END:VCALENDAR
