BEGIN:VCALENDAR
VERSION:2.0
PRODID:-//ChamberMaster//Event Calendar 2.0//EN
METHOD:PUBLISH
X-PUBLISHED-TTL:P3D
REFRESH-INTERVAL:P3D
CALSCALE:GREGORIAN
BEGIN:VEVENT
DTSTART:20241205T230000Z
DTEND:20241206T003000Z
X-MICROSOFT-CDO-ALLDAYEVENT:FALSE
SUMMARY:12.05.24 Business After Hours Sponsored by Crane's Craft BBQ
DESCRIPTION:Join us for our monthly evening social business networking event\, sponsored by Crane's Craft BBQ at the Wagon Wheel. This event is open to our sponsor\, their employees and guests\, Chamber members and prospective members. Attendees can expect a short sponsor presentation\, food/beverages\, an update on Chamber activities\, door prizes\, and making plenty of new connections!\n\n\n\nPlease note: This event is being photographed and/or videotaped and your image may be used in connection with the advertising and promotion of the Abilene Chamber of Commerce.
X-ALT-DESC;FMTTYPE=text/html:<span style="font-family:arial\;"><span style="font-size: 14px\;">Join us for our monthly evening social business networking event</span></span><span style="font-family: arial\; font-size: 14px\;">\, sponsored by Crane&#39\;s Craft BBQ at the Wagon Wheel.&nbsp\;</span><span style="font-family:arial\;"><span style="font-size: 14px\;">This event is open to our sponsor\, their employees and guests\, Chamber members and prospective members. Attendees can expect&nbsp\;a short sponsor presentation\, food/beverages\, an update on Chamber activities\, door prizes\, and making plenty of new connections!</span></span><br />\n<br />\n<span style="background-image: initial\; background-position: initial\; background-size: initial\; background-repeat: initial\; background-attachment: initial\; background-origin: initial\; background-clip: initial\;"><span style="font-family: arial\, sans-serif\;"><span style="font-size: 7pt\;">Please note: This event is being photographed and/or videotaped and your image may be used in connection with the advertising and promotion of the Abilene Chamber of Commerce.</span></span></span>
LOCATION:1023 S Access Rd\, Tye\, TX\, 79563
UID:e.3433.5174
SEQUENCE:3
DTSTAMP:20260422T021310Z
URL:https://business.abileneworks.com/events/details/12-05-24-business-after-hours-sponsored-by-crane-s-craft-bbq-5174
END:VEVENT

END:VCALENDAR
