BEGIN:VCALENDAR
VERSION:2.0
PRODID:-//ChamberMaster//Event Calendar 2.0//EN
METHOD:PUBLISH
X-PUBLISHED-TTL:P3D
REFRESH-INTERVAL:P3D
CALSCALE:GREGORIAN
BEGIN:VEVENT
DTSTART:20260505T190000Z
DTEND:20260505T200000Z
X-MICROSOFT-CDO-ALLDAYEVENT:FALSE
SUMMARY:1 Year Anniversary Ribbon Cutting - Texas Tile Supply
DESCRIPTION:Join the Redcoats as we celebrate with the team at Texas Tile Supply their one anniversary!
X-ALT-DESC;FMTTYPE=text/html:Join the Redcoats as we celebrate with the team at Texas Tile Supply their one anniversary!&nbsp\;&nbsp\;&nbsp\;&nbsp\;&nbsp\;&nbsp\;&nbsp\;&nbsp\;&nbsp\;&nbsp\;&nbsp\;&nbsp\;&nbsp\;&nbsp\;&nbsp\;&nbsp\;&nbsp\;
LOCATION:279 Ruidoso Ave Abilene\, TX 79605
UID:e.3433.6075
SEQUENCE:3
DTSTAMP:20260423T180839Z
URL:https://business.abileneworks.com/events/details/1-year-anniversary-ribbon-cutting-texas-tile-supply-6075
END:VEVENT

END:VCALENDAR
