BEGIN:VCALENDAR
VERSION:2.0
PRODID:-//ChamberMaster//Event Calendar 2.0//EN
METHOD:PUBLISH
X-PUBLISHED-TTL:P3D
REFRESH-INTERVAL:P3D
CALSCALE:GREGORIAN
BEGIN:VEVENT
DTSTART:20250909T160000Z
DTEND:20250909T170000Z
X-MICROSOFT-CDO-ALLDAYEVENT:FALSE
SUMMARY:09.09.25 Summit Rewind with Wade Ashby
DESCRIPTION:Join us for the next Summit Rewind\, a new webinar series from Abilene Young Professionals featuring speakers from the West Texas Young Professional Leadership Summit! On September 9th from 11:00 AM to 12:00 PM\, join us for a special AYP Summit Rewind session featuring Wade Ashby\, the Dean of Online Education & Associate Professor of Computer Information Systems at Howard Payne University.
X-ALT-DESC;FMTTYPE=text/html:Join us for the next&nbsp\;<em data-end="42" data-start="27">Summit Rewind</em>\, a new webinar series from Abilene Young Professionals featuring speakers from the West Texas Young Professional Leadership Summit! On September 9th from 11:00 AM to 12:00 PM\, join us for a special AYP Summit Rewind session featuring Wade Ashby\, the Dean of Online Education &amp\; Associate Professor of Computer Information Systems at Howard Payne University.
LOCATION:Online Webinar
UID:e.3433.5705
SEQUENCE:3
DTSTAMP:20260421T114812Z
URL:https://business.abileneworks.com/events/details/09-09-25-summit-rewind-with-wade-ashby-5705
END:VEVENT

END:VCALENDAR
