BEGIN:VCALENDAR
VERSION:2.0
PRODID:-//ChamberMaster//Event Calendar 2.0//EN
METHOD:PUBLISH
X-PUBLISHED-TTL:P3D
REFRESH-INTERVAL:P3D
CALSCALE:GREGORIAN
BEGIN:VEVENT
DTSTART:20250827T200000Z
DTEND:20250827T210000Z
X-MICROSOFT-CDO-ALLDAYEVENT:FALSE
SUMMARY:08.27.25 Chamber in 60
DESCRIPTION:The Chamber in 60 is a one-hour session about the Chamber's mission\, member benefits\, networking events\, committees\, sponsorships and how to maximize the benefits of your Chamber investment. Meet the staff and Executive Board Members and find out how we serve your business. New members are encouraged to attend. Seating is limited\, reservations required.
X-ALT-DESC;FMTTYPE=text/html:The Chamber in 60 is a one-hour session about the Chamber&#39\;s mission\, member benefits\, networking events\, committees\, sponsorships and how to maximize the benefits of your Chamber investment. Meet the staff and Executive Board Members and find out how we serve your business. New members are encouraged to attend. Seating is limited\, reservations required.&nbsp\;
LOCATION:Abilene Chamber of Commerce 400 Pine Street\, Ste. 500 Abilene\, Texas 79601
UID:e.3433.5514
SEQUENCE:3
DTSTAMP:20260421T132537Z
URL:https://business.abileneworks.com/events/details/08-27-25-chamber-in-60-5514
END:VEVENT

END:VCALENDAR
