BEGIN:VCALENDAR
VERSION:2.0
PRODID:-//ChamberMaster//Event Calendar 2.0//EN
METHOD:PUBLISH
X-PUBLISHED-TTL:P3D
REFRESH-INTERVAL:P3D
CALSCALE:GREGORIAN
BEGIN:VEVENT
DTSTART:20250715T160000Z
DTEND:20250715T170000Z
X-MICROSOFT-CDO-ALLDAYEVENT:FALSE
SUMMARY:07.15.25 Summit Rewind with Beatriz Carias Nguyen
DESCRIPTION:Join us for the next Summit Rewind\, a new webinar series from Abilene Young Professionals featuring speakers from the West Texas Young Professional Leadership Summit! On July 15th from 11:00 AM to 12:00 PM\, join us for a special AYP Summit Rewind session featuring Beatriz Carias Nguyen\, the dynamic Senior Director of Content Strategy at Abilene Christian University. In this engaging session titled "Marketing for the Employer\," Beatriz will explore how organizations can think like marketers to attract and retain top talent along with great tips for social media marketing. Don't miss this opportunity to learn from a leader who has helped shape the voice and vision of one of Abilene?s most recognizable institutions.
X-ALT-DESC;FMTTYPE=text/html:Join us for the next&nbsp\;<em data-end="42" data-start="27">Summit Rewind</em>\, a new webinar series from Abilene Young Professionals featuring speakers from the West Texas Young Professional Leadership Summit! On July 15th from 11:00 AM to 12:00 PM\, join us for a special AYP Summit Rewind session featuring Beatriz Carias Nguyen\, the dynamic Senior Director of Content Strategy at Abilene Christian University. In this engaging session titled "Marketing for the Employer\," Beatriz will explore how organizations can think like marketers to attract and retain top talent along with great tips for social media marketing. Don't miss this opportunity to learn from a leader who has helped shape the voice and vision of one of Abilene?s most recognizable institutions.
LOCATION:Online Webinar
UID:e.3433.5663
SEQUENCE:3
DTSTAMP:20260421T145122Z
URL:https://business.abileneworks.com/events/details/07-15-25-summit-rewind-with-beatriz-carias-nguyen-5663
END:VEVENT

END:VCALENDAR
